BEGIN:VCALENDAR
VERSION:2.0
PRODID:-//Gopher Bassmaster - ECPv6.15.20//NONSGML v1.0//EN
CALSCALE:GREGORIAN
METHOD:PUBLISH
X-ORIGINAL-URL:https://www.gopherbass.com
X-WR-CALDESC:Events for Gopher Bassmaster
REFRESH-INTERVAL;VALUE=DURATION:PT1H
X-Robots-Tag:noindex
X-PUBLISHED-TTL:PT1H
BEGIN:VTIMEZONE
TZID:America/Chicago
BEGIN:DAYLIGHT
TZOFFSETFROM:-0600
TZOFFSETTO:-0500
TZNAME:CDT
DTSTART:20160313T080000
END:DAYLIGHT
BEGIN:STANDARD
TZOFFSETFROM:-0500
TZOFFSETTO:-0600
TZNAME:CST
DTSTART:20161106T070000
END:STANDARD
BEGIN:DAYLIGHT
TZOFFSETFROM:-0600
TZOFFSETTO:-0500
TZNAME:CDT
DTSTART:20170312T080000
END:DAYLIGHT
BEGIN:STANDARD
TZOFFSETFROM:-0500
TZOFFSETTO:-0600
TZNAME:CST
DTSTART:20171105T070000
END:STANDARD
BEGIN:DAYLIGHT
TZOFFSETFROM:-0600
TZOFFSETTO:-0500
TZNAME:CDT
DTSTART:20180311T080000
END:DAYLIGHT
BEGIN:STANDARD
TZOFFSETFROM:-0500
TZOFFSETTO:-0600
TZNAME:CST
DTSTART:20181104T070000
END:STANDARD
BEGIN:DAYLIGHT
TZOFFSETFROM:-0600
TZOFFSETTO:-0500
TZNAME:CDT
DTSTART:20190310T080000
END:DAYLIGHT
BEGIN:STANDARD
TZOFFSETFROM:-0500
TZOFFSETTO:-0600
TZNAME:CST
DTSTART:20191103T070000
END:STANDARD
BEGIN:DAYLIGHT
TZOFFSETFROM:-0600
TZOFFSETTO:-0500
TZNAME:CDT
DTSTART:20200308T080000
END:DAYLIGHT
BEGIN:STANDARD
TZOFFSETFROM:-0500
TZOFFSETTO:-0600
TZNAME:CST
DTSTART:20201101T070000
END:STANDARD
BEGIN:DAYLIGHT
TZOFFSETFROM:-0600
TZOFFSETTO:-0500
TZNAME:CDT
DTSTART:20210314T080000
END:DAYLIGHT
BEGIN:STANDARD
TZOFFSETFROM:-0500
TZOFFSETTO:-0600
TZNAME:CST
DTSTART:20211107T070000
END:STANDARD
END:VTIMEZONE
BEGIN:VEVENT
DTSTART;TZID=America/Chicago:20200115T183000
DTEND;TZID=America/Chicago:20200115T200000
DTSTAMP:20260423T133027
CREATED:20191106T155738Z
LAST-MODIFIED:20191205T014004Z
UID:548-1579113000-1579118400@www.gopherbass.com
SUMMARY:January 2020 Club Meeting
DESCRIPTION:January 2020 Gopher Club Meeting \nDate/Time: January 15\, 2020 from 6:30 PM to 8PM\nLocation: Bunny’s Bar and Grill\, 34 13th Ave NE\, Minneapolis\, MN 55413
URL:https://www.gopherbass.com/event/january-2020-club-meeting/
LOCATION:Bunny’s Bar and Grill\, 34 13th Ave NE\, Minneapolis\, MN\, 55413\, United States
CATEGORIES:Club Meeting
END:VEVENT
BEGIN:VEVENT
DTSTART;TZID=America/Chicago:20191204T183000
DTEND;TZID=America/Chicago:20191204T200000
DTSTAMP:20260423T133027
CREATED:20191106T155611Z
LAST-MODIFIED:20191106T155830Z
UID:546-1575484200-1575489600@www.gopherbass.com
SUMMARY:December 2019 Club Meeting
DESCRIPTION:December 2019 Gopher Club Meeting \nDate/Time: December 4\, 2019 from 6:30 PM to 8PM\nLocation: Bunny’s Bar and Grill\, 34 13th Ave NE\, Minneapolis\, MN 55413 \n 
URL:https://www.gopherbass.com/event/december-club-meeting/
LOCATION:Bunny’s Bar and Grill\, 34 13th Ave NE\, Minneapolis\, MN\, 55413\, United States
CATEGORIES:Club Meeting
END:VEVENT
BEGIN:VEVENT
DTSTART;TZID=America/Chicago:20191106T183000
DTEND;TZID=America/Chicago:20191106T200000
DTSTAMP:20260423T133027
CREATED:20191106T155242Z
LAST-MODIFIED:20191106T155242Z
UID:542-1573065000-1573070400@www.gopherbass.com
SUMMARY:November 2019 Club Meeting
DESCRIPTION:Gopher November Club Meeting:\nNovember 6\, 2019\, from 6:30 PM to 8 PM. \n  \nMeeting Location:\nBunny’s Bar & Grill NE\n34 13th Ave NE\, Minneapolis\, MN 55413\nPhone: (612) 545-5659 \n\nAgenda\n1. state meeting recap if someone went ??\n2. pay club dues\n3. Bass membership paid up ??\n4. recap Gopher tournaments\n5. recap the state tournament\n6. club budget for this year\n7. bylaw changes\n8. banquet/awards\n9. new members needed\n10. any changes to club tournament format for this year\n11. pick date/meeting to pick lakes and dates\n  \n 
URL:https://www.gopherbass.com/event/november-2019-club-meeting/
LOCATION:Bunny’s Bar and Grill\, 34 13th Ave NE\, Minneapolis\, MN\, 55413\, United States
CATEGORIES:Club Tournament
END:VEVENT
BEGIN:VEVENT
DTSTART;TZID=America/Chicago:20191006T080000
DTEND;TZID=America/Chicago:20191006T170000
DTSTAMP:20260423T133027
CREATED:20190425T021937Z
LAST-MODIFIED:20190425T021937Z
UID:498-1570348800-1570381200@www.gopherbass.com
SUMMARY:Fall Classic
DESCRIPTION:Fall Classic club tournament \nThis is meant to be a year-end fun event on a mystery lake.
URL:https://www.gopherbass.com/event/fall-classic/
LOCATION:MN
CATEGORIES:Club Tournament
END:VEVENT
BEGIN:VEVENT
DTSTART;TZID=America/Chicago:20190922T070000
DTEND;TZID=America/Chicago:20190922T150000
DTSTAMP:20260423T133027
CREATED:20190424T075134Z
LAST-MODIFIED:20190424T075134Z
UID:494-1569135600-1569164400@www.gopherbass.com
SUMMARY:North/South Center Lake
DESCRIPTION:North/South Center Lake – September 22\, 2019 \nLindstrom\, MN (Chisago County) \nTake-off: 7:00 am\nWeigh-in: 3:00 pm\n12″ minimum\, 5 fish limit\nPlease arrive 20 minutes prior to take-off. \nLanding: TBD \nPairing: TBD
URL:https://www.gopherbass.com/event/north-south-center-lake/
LOCATION:MN
END:VEVENT
BEGIN:VEVENT
DTSTART;TZID=America/Chicago:20190825T060000
DTEND;TZID=America/Chicago:20190825T140000
DTSTAMP:20260423T133027
CREATED:20190424T074851Z
LAST-MODIFIED:20190824T031030Z
UID:491-1566712800-1566741600@www.gopherbass.com
SUMMARY:Whitefish Chain of Lakes Day 2
DESCRIPTION:Whitefish chain of lakes Day 2 – August 25\, 2019 \nCrosslake\, MN \nTake off will be at 6:00 AM Both days.  We will weigh in at the dam on the east side of cross lake at 2:00 PM \nTake-off: 6 AM\nWeigh-in: 2 PM\n12″ minimum\, 5 fish limit\nPlease arrive 20 minutes prior to take-off. \nLanding: We will be using the boat ramp on the south west end of cross lake both days. (The one on West Shore Drive) \nPairing: \n\n\n\n\n\n\n\n\n\n\nBoat #\nBoater\nNon Boater\n\n\n1\nBen Yang\nRyan Ferber\n\n\n2\nBill O’Donnell \nJohn Fairbanks\n\n\n3\nMike Steinhoff\nSteve Brummer\n\n\n4\nDavid Little\nVang Xiong\n\n\n\n\n 
URL:https://www.gopherbass.com/event/whitefish-chain-of-lakes-day-2/
LOCATION:MN
CATEGORIES:Club Tournament
END:VEVENT
BEGIN:VEVENT
DTSTART;TZID=America/Chicago:20190824T060000
DTEND;TZID=America/Chicago:20190824T140000
DTSTAMP:20260423T133027
CREATED:20190424T074727Z
LAST-MODIFIED:20190824T030948Z
UID:489-1566626400-1566655200@www.gopherbass.com
SUMMARY:Whitefish Chain of Lakes Day 1
DESCRIPTION:Whitefish chain of lakes Day 1 – August 24\, 2019 \nCrosslake\, MN \nTake off will be at 6:00 AM Both days.  We will weigh in at the dam on the east side of cross lake at 2:00 PM \nTake-off: 6 AM\nWeigh-in: 2 PM\n12″ minimum\, 5 fish limit\nPlease arrive 20 minutes prior to take-off. \nLanding: We will be using the boat ramp on the south west end of cross lake both days. (The one on West Shore Drive) \nPairing: \n\n\nSaturday\n\n\n\n\n\n\n\n\n\n\n\nBoat #\nBoater\nNon Boater\n\n\n1\nVang Xiong\nJohn Fairbanks\n\n\n2\nDavid Little\nSteve Brummer\n\n\n3\nMike Steinhoff\nBill O’Donnell \n\n\n4\nBen Yang\n\n\n\n\n\n\n\n 
URL:https://www.gopherbass.com/event/whitefish-chain-of-lakes-day-1/
LOCATION:MN
CATEGORIES:Club Tournament
END:VEVENT
BEGIN:VEVENT
DTSTART;VALUE=DATE:20190808
DTEND;VALUE=DATE:20190810
DTSTAMP:20260423T133027
CREATED:20190424T074100Z
LAST-MODIFIED:20190424T074100Z
UID:487-1565222400-1565395199@www.gopherbass.com
SUMMARY:MN BASS Nation TOC
DESCRIPTION:2019 MN BASS Nation TOC on Island Lake Reservoir \nAugust 8-9\, 2019 \n 
URL:https://www.gopherbass.com/event/mn-bass-nation-toc/
LOCATION:MN
CATEGORIES:MN BASS Nation Tournament
END:VEVENT
BEGIN:VEVENT
DTSTART;TZID=America/Chicago:20190714T060000
DTEND;TZID=America/Chicago:20190714T140000
DTSTAMP:20260423T133027
CREATED:20190424T073736Z
LAST-MODIFIED:20190424T073736Z
UID:484-1563084000-1563112800@www.gopherbass.com
SUMMARY:Lake Alexander
DESCRIPTION:Lake Alexander – July 14\, 2019 \nSouth of Motley\, MN (Morrison County) \nTake-off: TBD\nWeigh-in: TBD\n12″ minimum\, 5 fish limit\nPlease arrive 20 minutes prior to take-off. \nLanding: TBD \nPairing: TBD
URL:https://www.gopherbass.com/event/lake-alexander/
LOCATION:MN
CATEGORIES:Club Tournament
END:VEVENT
BEGIN:VEVENT
DTSTART;TZID=America/Chicago:20190609T060000
DTEND;TZID=America/Chicago:20190609T140000
DTSTAMP:20260423T133027
CREATED:20190424T073509Z
LAST-MODIFIED:20190424T073810Z
UID:482-1560060000-1560088800@www.gopherbass.com
SUMMARY:Clearwater Lake
DESCRIPTION:Clearwater Lake – June 9\, 2019 \nSouth of Deerwood\, MN (Crow Wing county) \nTake-off: TBD\nWeigh-in: TBD\n12″ minimum\, 5 fish limit\nPlease arrive 20 minutes prior to take-off. \nLanding: TBD \nPairing: TBD
URL:https://www.gopherbass.com/event/clearwater-lake/
LOCATION:MN
CATEGORIES:Club Tournament
END:VEVENT
BEGIN:VEVENT
DTSTART;TZID=America/Chicago:20190608T060000
DTEND;TZID=America/Chicago:20190608T140000
DTSTAMP:20260423T133027
CREATED:20190424T072931Z
LAST-MODIFIED:20190519T134257Z
UID:479-1559973600-1560002400@www.gopherbass.com
SUMMARY:Mille Lacs Lake
DESCRIPTION:Mille Lacs Lake – Rescheduled to June 8\, 2019 \n*Note: Originally scheduled for May 19\, 2019\, but rescheduled due to high wind. \nVFW 38692 US Highway 169\, Onamia\, MN 56359 \nTake-off: 6:00 AM\nOff-water: 2:00 PM\n12″ minimum\, 5 fish limit\, paper tournament\nPlease arrive 20 minutes prior to take-off. \nThis is a paper tournament. \n1. Please plan on reporting to the VFW 38692 US Highway 169\, Onamia\, MN 56359 on the south end of the lake at 6:00 AM.  We will be trailering boats for this event to keep everyone safe should the wind pick up. \n2. Competitors will need to be off the water at 2:00 PM \n3. Each boat will be given a cleanup bag to be used to clean up the ramp \n4. We will all meet back at the VFW 38692 US Highway 169\, Onamia\, MN 56359 at 3:00 PM to turn in our weigh in sheets \n\n\n\n\n\n\n\nBoat #\nBoater\nNon-Boater\n\n\n1      \nBen Yang\nDavid Little \n\n\n2      \nMike Steinhoff\nJason Roberts\n\n\n 3      \nBill O’Donnell\nJosh Rogers\n\n\n4      \nVang Xiong\nJames Harkin\n\n\n5     \nChong \nChris Beihle\n\n\n6      \nDave Larson\nJustin Pius\n\n\n7     \nTom Campbell\nRyan Ferber\n\n\n8     \nJohn Fairbanks\nSteve Brummer
URL:https://www.gopherbass.com/event/mille-lacs/
LOCATION:MN
CATEGORIES:Club Tournament
END:VEVENT
BEGIN:VEVENT
DTSTART;TZID=America/Chicago:20190224T103000
DTEND;TZID=America/Chicago:20190224T130000
DTSTAMP:20260423T133027
CREATED:20190224T051309Z
LAST-MODIFIED:20190224T051309Z
UID:453-1551004200-1551013200@www.gopherbass.com
SUMMARY:2018 Gopher Banquet
DESCRIPTION:The banquet will be Feb. 24th at Tuttle’s in Hopkins. Bowling starts at 10:30 and we have lanes for 2 hours\, shoes included. A pizza buffet/salad bar served around 12:00 in a private room where we will do awards. \nThe club will cover some of the cost\, but please plan on $5-$10 per person. Also\, alcohol drinks will be out of pocket.
URL:https://www.gopherbass.com/event/2018-gopher-banquet/
LOCATION:MN
CATEGORIES:Club Activity
END:VEVENT
BEGIN:VEVENT
DTSTART;TZID=America/Chicago:20190126T111500
DTEND;TZID=America/Chicago:20190126T130000
DTSTAMP:20260423T133027
CREATED:20190108T060518Z
LAST-MODIFIED:20190108T060518Z
UID:448-1548501300-1548507600@www.gopherbass.com
SUMMARY:January 2019 Club Meeting
DESCRIPTION:Our next club meeting is Saturday\, January 26\, starting at 11:15 AM\, at Willy McCoys in Champlin. We will be picking dates and lakes for this upcoming season at this meeting\, so come prepared with lakes you want to fish. \n  \nAgenda:\n1. Winter Party\n2. Pay Dues\n3. Review State Meeting\n4. Pick Lakes and Dates \nMeeting Location: \nWilly McCoys\n12450 Business Park Blvd N\, Champlin\, MN 55316 \n  \n 
URL:https://www.gopherbass.com/event/january-2019-club-meeting/
LOCATION:Willy McCoys\, 1245 Business Park Blvd N\, Champlin\, MN\, 55316\, United States
CATEGORIES:Club Meeting
END:VEVENT
BEGIN:VEVENT
DTSTART;TZID=America/Chicago:20181204T190000
DTEND;TZID=America/Chicago:20181204T210000
DTSTAMP:20260423T133027
CREATED:20181128T060753Z
LAST-MODIFIED:20181128T060753Z
UID:445-1543950000-1543957200@www.gopherbass.com
SUMMARY:December 2018 Club Meeting
DESCRIPTION:The next Gopher club meeting is December 4th at Dunham’s Bar & Restaurant in West St. Paul. The meeting will start at 7 pm – 9 pm. \nThe address is:\nDunham’s Bar & Restaurant\n173 Lothenbach Ave\, West St Paul\, MN 55118
URL:https://www.gopherbass.com/event/december-2018-club-meeting/
LOCATION:Dunham’s Food & Drink\, 173 Lothenbach Ave\, West Saint Paul\, MN\, 55118\, United States
CATEGORIES:Club Meeting
END:VEVENT
BEGIN:VEVENT
DTSTART;TZID=America/Chicago:20181107T190000
DTEND;TZID=America/Chicago:20181107T210000
DTSTAMP:20260423T133027
CREATED:20180917T193343Z
LAST-MODIFIED:20181021T025004Z
UID:438-1541617200-1541624400@www.gopherbass.com
SUMMARY:November 2018 Club Meeting
DESCRIPTION:The first postseason club meeting is November 7\, 2018\, 7 pm to 9 pm\, at Willy McCoys – Champlin location\, 12450 Business Park Blvd N\, Champlin\, MN 55316. \nThanks to Rayan for getting this meeting set up at Willy’s. \nGet there early if you want to get food and drinks\nWe will not have a server in the room \nIF YOU HAVE NOT PAID YOUR $5.00 FOR THE JERSEYS\nYOU NEED TO PAY IT \nAgenda\n1. Review the October state meeting\n2. 2018 year in review – what worked / what did not\n3. By-law review – what changes are needed – Toc roster?\n4. End of year party – yes or no\, when and where ??\n5. 2019 game plan\n6. fundraising ???\n7. next meeting – date and location \n 
URL:https://www.gopherbass.com/event/november-2018-club-meeting/
LOCATION:MN
CATEGORIES:Club Meeting
END:VEVENT
BEGIN:VEVENT
DTSTART;TZID=America/Chicago:20180930T070000
DTEND;TZID=America/Chicago:20180930T150000
DTSTAMP:20260423T133027
CREATED:20180118T064622Z
LAST-MODIFIED:20180118T064622Z
UID:301-1538290800-1538319600@www.gopherbass.com
SUMMARY:2018 Fall Classic
DESCRIPTION:Lake Waconia – September 30\, 2018 \nTake-off: 7:00 am\nWeigh-in: 3:00 pm\n12″ minimum\, 5 fish limit\nPlease arrive 20 minutes prior to take-off. \nLanding: TBD \nPairing: TBD
URL:https://www.gopherbass.com/event/2018-fall-classic/
LOCATION:MN
CATEGORIES:Club Tournament
END:VEVENT
BEGIN:VEVENT
DTSTART;TZID=America/Chicago:20180916T070000
DTEND;TZID=America/Chicago:20180916T150000
DTSTAMP:20260423T133027
CREATED:20180118T064357Z
LAST-MODIFIED:20180914T140429Z
UID:299-1537081200-1537110000@www.gopherbass.com
SUMMARY:Lake Waconia
DESCRIPTION:Lake Waconia – September 16\, 2018 \nTake-off: 7:00 am\nWeigh-in: 3:00 pm\n12″ minimum\, 5 fish limit\nPlease arrive 20 minutes prior to take-off. \nPairing: \n\n\n\n\n\n\n\n\n\nBoater\nBoat #\nNon-Boater\n\n\nKorey\nBushman\n1\nJason\nRoberts\n\n\nBrian\nCasey\n2\n\n\n\n\nBill\nO’Donnell\n3\nDrake\nWuttke\n\n\nJohn\nFairbanks\n4\nBen\nYang\n\n\nBill\nBatterman\n5\nMatt\nPasma\n\n\nDavid\nLarsen\n6\nSteve\nBrummer\n\n\nMike\nSteinhoff\n7\nRyan\nFerber\n\n\nSport\nSmith\n8\nDavid\nLittle\n\n\nTom\nCampbell\n9\nRyan\nHanson
URL:https://www.gopherbass.com/event/lake-waconia/
LOCATION:MN
CATEGORIES:Club Tournament
END:VEVENT
BEGIN:VEVENT
DTSTART;TZID=America/Chicago:20180805T060000
DTEND;TZID=America/Chicago:20180805T140000
DTSTAMP:20260423T133027
CREATED:20180118T063631Z
LAST-MODIFIED:20180118T063956Z
UID:294-1533448800-1533477600@www.gopherbass.com
SUMMARY:2019 State TOC Water Day 2
DESCRIPTION:TBD – August 5\, 2018 \nTake-off: 6:00 am\nWeigh-in: 2:00 pm\n12″ minimum\, 5 fish limit\nPlease arrive 20 minutes prior to take-off. \nLanding: TBD \nPairing: TBD
URL:https://www.gopherbass.com/event/2019-state-toc-water-day-2/
LOCATION:MN
CATEGORIES:Club Tournament
END:VEVENT
BEGIN:VEVENT
DTSTART;TZID=America/Chicago:20180804T060000
DTEND;TZID=America/Chicago:20180804T140000
DTSTAMP:20260423T133027
CREATED:20180118T063250Z
LAST-MODIFIED:20180118T063931Z
UID:292-1533362400-1533391200@www.gopherbass.com
SUMMARY:2019 State TOC Water Day 1
DESCRIPTION:TBD – August 4\, 2018 \nTake-off: 6:00 am\nWeigh-in: 2:00 pm\n12″ minimum\, 5 fish limit\nPlease arrive 20 minutes prior to take-off. \nLanding: TBD \nPairing: TBD
URL:https://www.gopherbass.com/event/2019-state-toc-water-day-1/
LOCATION:MN
CATEGORIES:Club Tournament
END:VEVENT
BEGIN:VEVENT
DTSTART;TZID=America/Chicago:20180725T160000
DTEND;TZID=America/Chicago:20180725T210000
DTSTAMP:20260423T133027
CREATED:20180118T062813Z
LAST-MODIFIED:20180722T144136Z
UID:289-1532534400-1532552400@www.gopherbass.com
SUMMARY:Lake Minnetonka (Weekday)
DESCRIPTION:Lake Minnetonka – July 25\, 2018 \nTake-off: 4:00 pm\nWeigh-in: 9:00 pm\n12″ minimum\, 3 fish limit\nPlease arrive 20 minutes prior to take-off. \nLanding: Maxwell Bay Launch\, 3400 N Shore Dr\, Wayzata\, MN 55391 \nParing: \n\n\n\n\n\n\n\n\n\nBoat #\nBoater\nNon-Boater\n\n\n1\nMarty\nTerveer\nRyan\nFerber\n\n\n2\nDavid\nLarsen\nVang\nXiong\n\n\n3\nMike\nSteinhoff\nDave\nLittle\n\n\n4\nBen\nYang\nJason\nRoberts\n\n\n5\nBill\nBatterman\nRyan\nHansen\n\n\n6\nBrian\nCasey\nBill\nO’Donnell\n\n\n7\nKorey\nBushman\nTom\nCampbell\n\n\n8\nJohn\nFairbanks\nDrake\nWuttke\n\n\n9\nMatt\nPasma\nChong\nVang\n\n\n10\nSport\nSmith
URL:https://www.gopherbass.com/event/lake-minnetonka/
LOCATION:MN
CATEGORIES:Club Tournament
END:VEVENT
BEGIN:VEVENT
DTSTART;TZID=America/Chicago:20180624T060000
DTEND;TZID=America/Chicago:20180624T140000
DTSTAMP:20260423T133027
CREATED:20180118T062517Z
LAST-MODIFIED:20180722T144112Z
UID:287-1529820000-1529848800@www.gopherbass.com
SUMMARY:Tetonka Lake (Waterville\, MN)
DESCRIPTION:Tetonka Lake – June 24\, 2018 \nWaterville\, MN \nTake-off: 6:00 am\nWeigh-in: 2:00 pm\n12″ minimum\, 5 fish limit\nPlease arrive 20 minutes prior to take-off. \nLanding: The DNR public launch at 17125 500th Ln\, Waterville\, MN 56096 \nPairing: \nBoat 1: Steve Brummer / Chris Biehle\nBoat 2: Korey Bushman / Drake Wuttke\nBoat 3: Bill Batterman / Tom Campbell\nBoat 4: Brian Casey / Ryan Ferber\nBoat 5: Marty Terveer / Mike Steinhoff\nBoat 6: John Fairbanks / Ray Ruiz\nBoat 7: Ben Yang / Ryan Hansen\nBoat 8: Matt Pasma / Vang Xiong\nBoat 9: Bill O’Donnell / Dave Little\nBoat 10: David Larsen / Jason Roberts \n 
URL:https://www.gopherbass.com/event/tetonka-lake-waterville-mn/
LOCATION:MN
CATEGORIES:Club Tournament
END:VEVENT
BEGIN:VEVENT
DTSTART;TZID=America/Chicago:20180506T060000
DTEND;TZID=America/Chicago:20180506T140000
DTSTAMP:20260423T133027
CREATED:20180118T062143Z
LAST-MODIFIED:20180501T153232Z
UID:284-1525586400-1525615200@www.gopherbass.com
SUMMARY:Balsam Lake (Balsam Lake\, WI): Canceled
DESCRIPTION:The Balsam Lake tournament for Sunday\, May 6\, 2018\, is canceled due to uncertain ice out conditions. \n 
URL:https://www.gopherbass.com/event/balsam-lake-balsam-lake-wi/
LOCATION:MN
CATEGORIES:Club Tournament
END:VEVENT
BEGIN:VEVENT
DTSTART;TZID=America/Chicago:20180424T183000
DTEND;TZID=America/Chicago:20180424T200000
DTSTAMP:20260423T133027
CREATED:20180328T161809Z
LAST-MODIFIED:20180328T161809Z
UID:321-1524594600-1524600000@www.gopherbass.com
SUMMARY:April 2018 Club Meeting
DESCRIPTION:The next club meeting is April 24\, 2018\, at 6:30 pm @ Dunham’s\, 173 Lothenbach Ave\, West St Paul\, MN 55118. The meeting is on the second floor. \n 
URL:https://www.gopherbass.com/event/april-2018-club-meeting/
LOCATION:Dunham’s Food & Drink\, 173 Lothenbach Ave\, West Saint Paul\, MN\, 55118\, United States
END:VEVENT
BEGIN:VEVENT
DTSTART;TZID=America/Chicago:20180320T183000
DTEND;TZID=America/Chicago:20180320T200000
DTSTAMP:20260423T133027
CREATED:20180222T073917Z
LAST-MODIFIED:20180222T073917Z
UID:308-1521570600-1521576000@www.gopherbass.com
SUMMARY:March 2018 Club Meeting
DESCRIPTION:The next club meeting is March 20\, 2018 at 6:30 pm @ the Hopkins VFW\, 100 Shady Oak Rd\, Hopkins\, MN 55343. \n 
URL:https://www.gopherbass.com/event/march-2018-club-meeting/
LOCATION:Hopkins VFW\, 100 Shady Oak Rd\, Hopkins\, MN\, 55343\, United States
CATEGORIES:Club Meeting
END:VEVENT
BEGIN:VEVENT
DTSTART;TZID=America/Chicago:20180206T183000
DTEND;TZID=America/Chicago:20180206T200000
DTSTAMP:20260423T133027
CREATED:20180118T061615Z
LAST-MODIFIED:20180118T061615Z
UID:280-1517941800-1517947200@www.gopherbass.com
SUMMARY:February 2018 Club Meeting
DESCRIPTION:The next club meeting is February 6th\, 2018 at 6:30pm @ Dunham’s\, 173 Lothenbach Ave\, West St Paul\, MN 55118. The meeting is on the second floor. \n  \nWe will vote on the purpose point system at this meeting.
URL:https://www.gopherbass.com/event/february-2018-club-meeting/
LOCATION:Dunham’s Food & Drink\, 173 Lothenbach Ave\, West Saint Paul\, MN\, 55118\, United States
CATEGORIES:Club Meeting
END:VEVENT
BEGIN:VEVENT
DTSTART;TZID=America/Chicago:20180203T180000
DTEND;TZID=America/Chicago:20180203T210000
DTSTAMP:20260423T133027
CREATED:20171212T222022Z
LAST-MODIFIED:20180118T061125Z
UID:257-1517680800-1517691600@www.gopherbass.com
SUMMARY:End of Year Banquet
DESCRIPTION:The banquet will be Feb 3rd from 6 pm to 9 pm. That date got the most votes and was actually available at Whirlyball. Please provide a solid head count no later than Jan 1. \n  \nReservation is $20 per couple. Please coordinate payment (check) with Sport Smith or John Fairbanks\, or alternatively\, bring payment to one of the club meetings. \n  \nThe club will cover food and soft drinks but you are on your own for alcohol. If you fished with us in 2017\, you are welcome to attend the banquet. This event is as much about thanking our wives/girlfriends as celebrating our fishing accomplishments.
URL:https://www.gopherbass.com/event/end-of-year-banquet/
LOCATION:WhirlyBall\, 13644 80th Cir N\, Maple Grove\, MN\, 55369\, United States
CATEGORIES:Club Activity
END:VEVENT
BEGIN:VEVENT
DTSTART;TZID=America/Chicago:20180109T183000
DTEND;TZID=America/Chicago:20180109T203000
DTSTAMP:20260423T133027
CREATED:20180102T054604Z
LAST-MODIFIED:20180118T060832Z
UID:270-1515522600-1515529800@www.gopherbass.com
SUMMARY:January 2018 Club Meeting
DESCRIPTION:Next club meeting is Tuesday\, January 9th @ 6:30\, at the Hopkins VFW\n\nAgenda:\n1. Vote for Vice President and Federation Rep.\n2. Vote for weight VS. points for club standings\n3. Vote for club tournament dates\n4. Vote for club tournament lakes\n5. Next meeting date TBD\n6. Open items
URL:https://www.gopherbass.com/event/january-2018-club-meeting/
LOCATION:Hopkins VFW\, 100 Shady Oak Rd\, Hopkins\, MN\, 55343\, United States
CATEGORIES:Club Meeting
END:VEVENT
BEGIN:VEVENT
DTSTART;TZID=America/Chicago:20171212T180000
DTEND;TZID=America/Chicago:20171212T210000
DTSTAMP:20260423T133027
CREATED:20171212T220507Z
LAST-MODIFIED:20180118T061100Z
UID:254-1513101600-1513112400@www.gopherbass.com
SUMMARY:December 2017 Club Meeting
DESCRIPTION:We will vote for officers and can start talking lakes. You should also think about paying dues if you plan to fish next year. \n  \nNew meeting location: \nDunham’s Food & Drink \n173 Lothenbach Ave\, West St Paul\, MN 55118
URL:https://www.gopherbass.com/event/december-2017-club-meeting/
LOCATION:Dunham’s Food & Drink\, 173 Lothenbach Ave\, West Saint Paul\, MN\, 55118\, United States
CATEGORIES:Club Meeting
END:VEVENT
BEGIN:VEVENT
DTSTART;TZID=America/Chicago:20170917T070000
DTEND;TZID=America/Chicago:20170917T150000
DTSTAMP:20260423T133027
CREATED:20170318T063745Z
LAST-MODIFIED:20171114T214759Z
UID:76-1505631600-1505660400@www.gopherbass.com
SUMMARY:Sugar Lake (Annandale\, MN)
DESCRIPTION:Sugar Lake – September 17\, 2017 \nAnnandale\, MN \nTake-off: 7:00 am\nWeigh in: 3:00 pm\n12″ minimum\, 5 fish limit\nPlease arrive 20 minutes prior to take-off. \nLanding: TBD \n\n\n\n\n\n\nBoater\nNon-Boater\n\n\nMarty\nChris\n\n\nBrian\nDontrell\n\n\nBill B.\nSteve\n\n\nJohn\nMichael\n\n\nBill O.\nRyan\n\n\nBen\nOpen\n\n\nChong\nJason\n\n\n\n  \nResults: \n\n\n\n\n\n\n\n\n\n\n\n\n\n\n\nRank\nName\n# of Fish\nGross Weight\nPenalty\nNet Weight\nShow Weight\nTeam Bonus\nBig Fish\nBoat #\nTeam Weight\n\n\n6\nMichael Steinhoff\n5\n10.64\n\n10.64\n1\n0.5\n3.86\n4\n19.79\n\n\n4\nBen Yang\n5\n10.14\n\n10.14\n1\n\n\n6\n10.14\n\n\n11\nBrian Casey\n5\n9.9\n\n9.9\n1\n\n\n2\n9.9\n\n\n25\nJohn Fairbanks\n5\n9.15\n\n9.15\n1\n0.5\n\n4\n19.79\n\n\n22\nChong Vang\n5\n9.11\n\n9.11\n1\n\n2.9\n7\n17.23\n\n\n12\nBill O’Donnell\n5\n8.2\n\n8.2\n1\n\n\n5\n15.04\n\n\n5\nJason Roberts\n5\n8.12\n\n8.12\n1\n\n\n7\n17.23\n\n\n16\nSteve Brummer\n5\n7.86\n\n7.86\n1\n\n\n3\n13.99\n\n\n24\nRyan Ferber\n5\n6.84\n\n6.84\n1\n\n\n5\n15.04\n\n\n2\nMarty Terveer\n5\n6.3\n\n6.3\n1\n\n\n1\n12.4\n\n\n8\nBill Batterman\n5\n6.13\n\n6.13\n1\n\n\n3\n13.99\n\n\n7\nChris Biehle\n5\n6.1\n\n6.1\n1\n\n\n1\n12.4\n\n\n21\nDontrell Flowers\n\n\n\n0\n1\n\n\n2\n9.9
URL:https://www.gopherbass.com/event/sugar-lake-annandale-mn/
LOCATION:MN
CATEGORIES:Club Tournament
END:VEVENT
BEGIN:VEVENT
DTSTART;TZID=America/Chicago:20170916T070000
DTEND;TZID=America/Chicago:20170916T150000
DTSTAMP:20260423T133027
CREATED:20170318T063558Z
LAST-MODIFIED:20171114T214704Z
UID:74-1505545200-1505574000@www.gopherbass.com
SUMMARY:Lake Washington / Stella (Dassel\, MN)
DESCRIPTION:Lake Washington / Stella – September 17\, 2017 \nDassel\, MN \nTake-off: 7:00 am\nWeigh in: 3:00 pm\n12″ minimum\, 5 fish limit\nPlease arrive 20 minutes prior to take-off. \nLanding: TBD \n\n\n\n\n\n\nBoater\nNon-Boater\n\n\nMarty\nJohn\n\n\nMatt\nDontrell\n\n\nSteve\nOpen\n\n\nBrian\nRyan\n\n\nBill B.\nMichael\n\n\nBill O.\nJason\n\n\nChong\nChris\n\n\n\n  \nResults: \n\n\n\n\n\n\n\n\n\n\n\n\n\n\n\nRank\nName\n# of Fish\nGross Weight\nPenalty\nNet Weight\nShow Weight\nTeam Bonus\nBig Fish\nBoat #\nTeam Weight\n\n\n11\nBrian Casey\n5\n17.76\n\n17.76\n1\n0.5\n\n4\n29.14\n\n\n3\nMatt Pasma\n5\n15.91\n\n15.91\n1\n\n\n2\n20.22\n\n\n2\nMarty Terveer\n5\n14.02\n\n14.02\n1\n\n\n1\n27.03\n\n\n16\nSteve Brummer\n5\n13.06\n\n13.06\n1\n\n\n3\n13.06\n\n\n25\nJohn Fairbanks\n5\n13.01\n\n13.01\n1\n\n\n1\n27.03\n\n\n24\nRyan Ferber\n5\n11.38\n\n11.38\n1\n0.5\n\n4\n29.14\n\n\n5\nJason Roberts\n4\n11.31\n\n11.31\n1\n\n4.13\n6\n21.47\n\n\n8\nBill Batterman\n5\n10.63\n\n10.63\n1\n\n\n5\n18.69\n\n\n12\nBill O’Donnell\n5\n10.16\n\n10.16\n1\n\n\n6\n21.47\n\n\n22\nChong Vang\n5\n9.38\n\n9.38\n1\n\n\n7\n15.89\n\n\n6\nMichael Steinhoff\n5\n8.06\n\n8.06\n1\n\n\n5\n18.69\n\n\n7\nChris Biehle\n5\n6.51\n\n6.51\n1\n\n\n7\n15.89\n\n\n21\nDontrell Flowers\n2\n4.31\n\n4.31\n1\n\n\n2\n20.22
URL:https://www.gopherbass.com/event/lake-washington-stella-dassel-mn/
LOCATION:MN
CATEGORIES:Club Tournament
END:VEVENT
END:VCALENDAR