BEGIN:VCALENDAR
VERSION:2.0
PRODID:-//Gopher Bassmaster - ECPv6.15.20//NONSGML v1.0//EN
CALSCALE:GREGORIAN
METHOD:PUBLISH
X-WR-CALNAME:Gopher Bassmaster
X-ORIGINAL-URL:https://www.gopherbass.com
X-WR-CALDESC:Events for Gopher Bassmaster
REFRESH-INTERVAL;VALUE=DURATION:PT1H
X-Robots-Tag:noindex
X-PUBLISHED-TTL:PT1H
BEGIN:VTIMEZONE
TZID:America/Chicago
BEGIN:DAYLIGHT
TZOFFSETFROM:-0600
TZOFFSETTO:-0500
TZNAME:CDT
DTSTART:20180311T080000
END:DAYLIGHT
BEGIN:STANDARD
TZOFFSETFROM:-0500
TZOFFSETTO:-0600
TZNAME:CST
DTSTART:20181104T070000
END:STANDARD
BEGIN:DAYLIGHT
TZOFFSETFROM:-0600
TZOFFSETTO:-0500
TZNAME:CDT
DTSTART:20190310T080000
END:DAYLIGHT
BEGIN:STANDARD
TZOFFSETFROM:-0500
TZOFFSETTO:-0600
TZNAME:CST
DTSTART:20191103T070000
END:STANDARD
BEGIN:DAYLIGHT
TZOFFSETFROM:-0600
TZOFFSETTO:-0500
TZNAME:CDT
DTSTART:20200308T080000
END:DAYLIGHT
BEGIN:STANDARD
TZOFFSETFROM:-0500
TZOFFSETTO:-0600
TZNAME:CST
DTSTART:20201101T070000
END:STANDARD
BEGIN:DAYLIGHT
TZOFFSETFROM:-0600
TZOFFSETTO:-0500
TZNAME:CDT
DTSTART:20210314T080000
END:DAYLIGHT
BEGIN:STANDARD
TZOFFSETFROM:-0500
TZOFFSETTO:-0600
TZNAME:CST
DTSTART:20211107T070000
END:STANDARD
BEGIN:DAYLIGHT
TZOFFSETFROM:-0600
TZOFFSETTO:-0500
TZNAME:CDT
DTSTART:20220313T080000
END:DAYLIGHT
BEGIN:STANDARD
TZOFFSETFROM:-0500
TZOFFSETTO:-0600
TZNAME:CST
DTSTART:20221106T070000
END:STANDARD
BEGIN:DAYLIGHT
TZOFFSETFROM:-0600
TZOFFSETTO:-0500
TZNAME:CDT
DTSTART:20230312T080000
END:DAYLIGHT
BEGIN:STANDARD
TZOFFSETFROM:-0500
TZOFFSETTO:-0600
TZNAME:CST
DTSTART:20231105T070000
END:STANDARD
BEGIN:DAYLIGHT
TZOFFSETFROM:-0600
TZOFFSETTO:-0500
TZNAME:CDT
DTSTART:20240310T080000
END:DAYLIGHT
BEGIN:STANDARD
TZOFFSETFROM:-0500
TZOFFSETTO:-0600
TZNAME:CST
DTSTART:20241103T070000
END:STANDARD
END:VTIMEZONE
BEGIN:VEVENT
DTSTART;TZID=America/Chicago:20230910T070000
DTEND;TZID=America/Chicago:20230910T150000
DTSTAMP:20260423T102925
CREATED:20230809T210312Z
LAST-MODIFIED:20230809T210312Z
UID:896-1694329200-1694358000@www.gopherbass.com
SUMMARY:Club Tournament North/South Center Lake Chisago\, MN Sept 10\, 2023
DESCRIPTION:This is the final club tournament for the Gopher Bassmasters in 2023.
URL:https://www.gopherbass.com/event/club-tournament-north-south-center-lake-chisago-mn-sept-10-2023/
END:VEVENT
BEGIN:VEVENT
DTSTART;TZID=America/Chicago:20210926T070000
DTEND;TZID=America/Chicago:20210926T150000
DTSTAMP:20260423T102925
CREATED:20210303T154554Z
LAST-MODIFIED:20210303T154554Z
UID:623-1632639600-1632668400@www.gopherbass.com
SUMMARY:Fall Classic
DESCRIPTION:Fall Classic – September 26\, 2021 \nTake-off: TBD\nWeigh-in: TBD\n12″ minimum\, 5 fish limit\nPlease arrive 20 minutes prior to take-off. \nLanding: TBD \nPairing: TBD
URL:https://www.gopherbass.com/event/fall-classic-2/
CATEGORIES:Club Tournament
END:VEVENT
BEGIN:VEVENT
DTSTART;TZID=America/Chicago:20210919T060000
DTEND;TZID=America/Chicago:20210919T150000
DTSTAMP:20260423T102925
CREATED:20210303T154421Z
LAST-MODIFIED:20210303T154421Z
UID:621-1632031200-1632063600@www.gopherbass.com
SUMMARY:TOC Water
DESCRIPTION:TOC Water – TBD – September 19\, 2021 \nTake-off: TBD\nWeigh-in: TBD\n12″ minimum\, 5 fish limit\nPlease arrive 20 minutes prior to take-off. \nLanding: TBD \nPairing: TBD
URL:https://www.gopherbass.com/event/toc-water/
CATEGORIES:Club Tournament
END:VEVENT
BEGIN:VEVENT
DTSTART;TZID=America/Chicago:20210818T160000
DTEND;TZID=America/Chicago:20210818T210000
DTSTAMP:20260423T102925
CREATED:20210303T154122Z
LAST-MODIFIED:20210629T211351Z
UID:619-1629302400-1629320400@www.gopherbass.com
SUMMARY:St. Croix River
DESCRIPTION:St. Croix River – August 18\, 2021 \nHudson\, WI \nTake-off: 4 PM\nWeigh-in: TBD\n14″ minimum\, 5 fish limit\nPlease arrive 20 minutes prior to take-off. \nLanding: TBD \nPairing: TBD
URL:https://www.gopherbass.com/event/st-croix-river/
CATEGORIES:Club Tournament
END:VEVENT
BEGIN:VEVENT
DTSTART;TZID=America/Chicago:20210710T060000
DTEND;TZID=America/Chicago:20210710T150000
DTSTAMP:20260423T102925
CREATED:20210303T073222Z
LAST-MODIFIED:20210303T153808Z
UID:617-1625896800-1625929200@www.gopherbass.com
SUMMARY:Gull Lake
DESCRIPTION:Gull Lake – July 10\, 2021 \nBrainerd\, MN \nTake-off: TBD\nWeigh-in: TBD\n12″ minimum\, 5 fish limit\nPlease arrive 20 minutes prior to take-off. \nLanding: TBD \nPairing: TBD
URL:https://www.gopherbass.com/event/gull-lake/
CATEGORIES:Club Tournament
END:VEVENT
BEGIN:VEVENT
DTSTART;TZID=America/Chicago:20210623T160000
DTEND;TZID=America/Chicago:20210623T210000
DTSTAMP:20260423T102925
CREATED:20210303T072927Z
LAST-MODIFIED:20210303T072927Z
UID:615-1624464000-1624482000@www.gopherbass.com
SUMMARY:Lake Waconia
DESCRIPTION:Lake Waconia – June 23\, 2021 \nWaconia\, MN \nTake-off: TBD\nWeigh-in: TBD\n12″ minimum\, 5 fish limit\nPlease arrive 20 minutes prior to take-off. \nLanding: TBD \nPairing: TBD
URL:https://www.gopherbass.com/event/lake-waconia-2/
CATEGORIES:Club Tournament
END:VEVENT
BEGIN:VEVENT
DTSTART;TZID=America/Chicago:20210606T060000
DTEND;TZID=America/Chicago:20210606T150000
DTSTAMP:20260423T102925
CREATED:20210303T072653Z
LAST-MODIFIED:20210303T072653Z
UID:613-1622959200-1622991600@www.gopherbass.com
SUMMARY:Tetonka Lake
DESCRIPTION:Tetonka Lake – June 6\, 2021 \nWaterville\, MN \nTake-off: TBD\nWeigh-in: TBD\n12″ minimum\, 5 fish limit\nPlease arrive 20 minutes prior to take-off. \nLanding: TBD \nPairing: TBD
URL:https://www.gopherbass.com/event/tetonka-lake/
CATEGORIES:Club Tournament
END:VEVENT
BEGIN:VEVENT
DTSTART;TZID=America/Chicago:20210427T190000
DTEND;TZID=America/Chicago:20210427T200000
DTSTAMP:20260423T102925
CREATED:20210426T185005Z
LAST-MODIFIED:20210426T185005Z
UID:633-1619550000-1619553600@www.gopherbass.com
SUMMARY:April 2021 Club Meeting (Remote)
DESCRIPTION:Our last club meeting for this offseason is April 27\, 2021 at 7 PM. This meeting is going to be remote again and the zoom meeting information is below. \nTopic: Gopher Club Meeting\nTime: Apr 27\, 2021 07:00 PM Central Time (US and Canada) \nJoin Zoom Meeting\nhttps://wheniwork.zoom.us/j/92240784450?pwd=Sm1xQU1vallQU0lURnArWnFydWI2Zz09 \nMeeting ID: 922 4078 4450\nPasscode: 998997\nOne tap mobile\n+13017158592\,\,92240784450#\,\,\,\,*998997# US (Washington DC)\n+13126266799\,\,92240784450#\,\,\,\,*998997# US (Chicago) \nDial by your location\n+1 301 715 8592 US (Washington DC)\n+1 312 626 6799 US (Chicago)\n+1 646 876 9923 US (New York)\n+1 253 215 8782 US (Tacoma)\n+1 346 248 7799 US (Houston)\n+1 669 900 6833 US (San Jose)\nMeeting ID: 922 4078 4450\nPasscode: 998997\nFind your local number: https://wheniwork.zoom.us/u/aeXCT2yHA \n 
URL:https://www.gopherbass.com/event/april-2021-club-meeting-remote/
CATEGORIES:Club Meeting
END:VEVENT
BEGIN:VEVENT
DTSTART;TZID=America/Chicago:20210316T190000
DTEND;TZID=America/Chicago:20210316T200000
DTSTAMP:20260423T102925
CREATED:20210303T154814Z
LAST-MODIFIED:20210315T233441Z
UID:625-1615921200-1615924800@www.gopherbass.com
SUMMARY:March 2021 Club Meeting (Remote)
DESCRIPTION:Our March club meeting will be remote via zoom again. \nHere is the meeting info: \nTopic: Gopher Club Meeting\nTime: Mar 16\, 2021 07:00 PM Central Time (US and Canada) \nJoin Zoom Meeting\nhttps://wheniwork.zoom.us/j/93174126707?pwd=Tmd0SzJzbWtRUEx3c1h4cWtVNWpJUT09 \nMeeting ID: 931 7412 6707\nPasscode: 517216 \nOne tap mobile\n+13126266799\,\,93174126707#\,\,\,\,*517216# US (Chicago)\n+16468769923\,\,93174126707#\,\,\,\,*517216# US (New York) \nDial by your location\n+1 312 626 6799 US (Chicago)\n+1 646 876 9923 US (New York)\n+1 301 715 8592 US (Washington DC)\n+1 346 248 7799 US (Houston)\n+1 669 900 6833 US (San Jose)\n+1 253 215 8782 US (Tacoma)\nMeeting ID: 931 7412 6707\nPasscode: 517216\nFind your local number: https://wheniwork.zoom.us/u/acViU6kMXO \n 
URL:https://www.gopherbass.com/event/march-2021-club-meeting-remote/
CATEGORIES:Club Meeting
END:VEVENT
BEGIN:VEVENT
DTSTART;TZID=America/Chicago:20210209T190000
DTEND;TZID=America/Chicago:20210209T200000
DTSTAMP:20260423T102925
CREATED:20210208T170134Z
LAST-MODIFIED:20210208T170134Z
UID:609-1612897200-1612900800@www.gopherbass.com
SUMMARY:February 2021 Club Meeting (Remote)
DESCRIPTION:Our February club meeting will be remote via zoom again. The zoom information is below: \nTopic: Gopher Bassmaster Club Meeting\nTime: Feb 9\, 2021 07:00 PM Central Time (US and Canada) \nJoin Zoom Meeting\nhttps://wheniwork.zoom.us/j/91560574820?pwd=SlM0blh5WEl4UWptMTgvZm1RNk02QT09 \nMeeting ID: 915 6057 4820\nPasscode: gopher\nOne tap mobile\n+13126266799\,\,91560574820#\,\,\,\,*817922# US (Chicago)\n+16468769923\,\,91560574820#\,\,\,\,*817922# US (New York) \nDial by your location\n+1 312 626 6799 US (Chicago)\n+1 646 876 9923 US (New York)\n+1 301 715 8592 US (Washington DC)\n+1 346 248 7799 US (Houston)\n+1 669 900 6833 US (San Jose)\n+1 253 215 8782 US (Tacoma)\nMeeting ID: 915 6057 4820\nPasscode: 817922
URL:https://www.gopherbass.com/event/february-2021-club-meeting-remote/
END:VEVENT
BEGIN:VEVENT
DTSTART;TZID=America/Chicago:20210112T190000
DTEND;TZID=America/Chicago:20210112T200000
DTSTAMP:20260423T102925
CREATED:20210104T203935Z
LAST-MODIFIED:20210104T205639Z
UID:601-1610478000-1610481600@www.gopherbass.com
SUMMARY:January 2021 Club Meeting (Remote)
DESCRIPTION:Our January 2021 Gopher club meeting will be conducted via zoom again. We will vote for dates and lakes during this meeting. Please come prepared with your nominations. \nDate: January 12\, 2021 at 7pm \nJoin Zoom Meeting\nhttps://zoom.us/j/93297031018?pwd=bFk0aklSZGgzSFZIZ0VMUTlCUVdOdz09 \nMeeting ID: 932 9703 1018\nPasscode: gopher
URL:https://www.gopherbass.com/event/january-2021-club-meeting-remote/
END:VEVENT
BEGIN:VEVENT
DTSTART;TZID=America/Chicago:20201208T190000
DTEND;TZID=America/Chicago:20201208T200000
DTSTAMP:20260423T102925
CREATED:20201201T211139Z
LAST-MODIFIED:20201201T211254Z
UID:596-1607454000-1607457600@www.gopherbass.com
SUMMARY:December 2020 Club Meeting (Remote)
DESCRIPTION:Our first club meeting of the off season will be remote via zoom. \nDate: December 8\, 2020 at 7pm to 8pm \nJoin Zoom Meeting\nhttps://zoom.us/j/99251975242?pwd=RDZXQ2hNS0FxMmZIVktaU2h1NUpkUT09 \nMeeting ID: 992 5197 5242\nPasscode: gopher
URL:https://www.gopherbass.com/event/december-2020-club-meeting-remote/
END:VEVENT
BEGIN:VEVENT
DTSTART;TZID=America/Chicago:20200912T070000
DTEND;TZID=America/Chicago:20200912T150000
DTSTAMP:20260423T102925
CREATED:20200226T035249Z
LAST-MODIFIED:20200226T035249Z
UID:571-1599894000-1599922800@www.gopherbass.com
SUMMARY:Lake Minnetonka
DESCRIPTION:Lake Minnetonka – September 12\, 2020 \nTake-off: 7:00 pm\nWeigh-in: 3:00 pm\n12″ minimum\, 5 fish limit\nPlease arrive 20 minutes prior to take-off. \nLanding: TBD \nPairing: TBD
URL:https://www.gopherbass.com/event/lake-minnetonka-2/
CATEGORIES:Club Tournament
END:VEVENT
BEGIN:VEVENT
DTSTART;TZID=America/Chicago:20200802T060000
DTEND;TZID=America/Chicago:20200802T140000
DTSTAMP:20260423T102925
CREATED:20200226T034959Z
LAST-MODIFIED:20200226T034959Z
UID:567-1596348000-1596376800@www.gopherbass.com
SUMMARY:TOC Water (TBD)
DESCRIPTION:TOC water (TBD) – August 2\, 2020 \nTake-off: 6:00 pm\nWeigh-in: 2:00 pm\n12″ minimum\, 5 fish limit\nPlease arrive 20 minutes prior to take-off. \nLanding: TBD \nPairing: TBD
URL:https://www.gopherbass.com/event/toc-water-tbd/
CATEGORIES:Club Tournament
END:VEVENT
BEGIN:VEVENT
DTSTART;TZID=America/Chicago:20200801T060000
DTEND;TZID=America/Chicago:20200801T140000
DTSTAMP:20260423T102925
CREATED:20200226T034737Z
LAST-MODIFIED:20200226T035051Z
UID:565-1596261600-1596290400@www.gopherbass.com
SUMMARY:TOC Water (TBD) Team Event
DESCRIPTION:TOC Water (TBD) – August 1\, 2020 \nFun team event. No points.
URL:https://www.gopherbass.com/event/toc-water-day-1/
CATEGORIES:Club Activity
END:VEVENT
BEGIN:VEVENT
DTSTART;TZID=America/Chicago:20200708T160000
DTEND;TZID=America/Chicago:20200708T210000
DTSTAMP:20260423T102925
CREATED:20200226T034311Z
LAST-MODIFIED:20200226T034311Z
UID:563-1594224000-1594242000@www.gopherbass.com
SUMMARY:Lake O'Dowd
DESCRIPTION:Lake O’Dowd – July 8\, 2020 \nShakopee\, MN \nTake-off: 4:00 pm\nWeigh-in: 9:00 pm\n12″ minimum\, 5 fish limit\nPlease arrive 20 minutes prior to take-off. \nLanding: TBD \nPairing: TBD
URL:https://www.gopherbass.com/event/lake-odowd/
CATEGORIES:Club Tournament
END:VEVENT
BEGIN:VEVENT
DTSTART;TZID=America/Chicago:20200617T160000
DTEND;TZID=America/Chicago:20200617T210000
DTSTAMP:20260423T102925
CREATED:20200226T034030Z
LAST-MODIFIED:20200610T040206Z
UID:561-1592409600-1592427600@www.gopherbass.com
SUMMARY:Medicine Lake
DESCRIPTION:Medicine Lake – June 17\, 2020 \nPlymouth\, MN \nTake-off: 4:00 pm\nWeigh-in: 9:00 pm\n12″ minimum\, 5 fish limit\nPlease arrive 30 minutes prior to take-off. \nhttps://goo.gl/maps/Eh4KxPJwNr4FcUHZ6 – was told there is a ramp fee. \n\n\n\nBoater\nNon-Boater\n\n\n1)     David Little\nJustin Pius\n\n\n2)     John Fairbanks\nRyan Ferber\n\n\n3)     David Larsen\nChris Biehle\n\n\n4)     Ben Yang\nJosh Rogers\n\n\n5)     Bill O’Donnell\nOwen Larsen\n\n\n6)     Vang Xiong\n———–
URL:https://www.gopherbass.com/event/medicine-lake/
CATEGORIES:Club Tournament
END:VEVENT
BEGIN:VEVENT
DTSTART;TZID=America/Chicago:20200531T060000
DTEND;TZID=America/Chicago:20200531T140000
DTSTAMP:20260423T102925
CREATED:20200226T033615Z
LAST-MODIFIED:20200226T033615Z
UID:559-1590904800-1590933600@www.gopherbass.com
SUMMARY:Long Lake
DESCRIPTION:Long Lake – May 31\, 2020 \nSpicer\, MN \nTake-off: 6 AM\nWeigh-in: 2 PM\n12″ minimum\, 5 fish limit\nPlease arrive 20 minutes prior to take-off. \nLanding: TBD \nPairing: TBD
URL:https://www.gopherbass.com/event/long-lake/
CATEGORIES:Club Tournament
END:VEVENT
BEGIN:VEVENT
DTSTART;TZID=America/Chicago:20200422T190000
DTEND;TZID=America/Chicago:20200422T200000
DTSTAMP:20260423T102925
CREATED:20200226T033155Z
LAST-MODIFIED:20200420T193531Z
UID:557-1587582000-1587585600@www.gopherbass.com
SUMMARY:April 2020 Club Meeting (Remote)
DESCRIPTION:April 2020 Gopher Club Meeting \nDate/Time: April 22\, 2020 from 7 PM to 8PM \nThis meeting will be remote. Please check our email for the meeting link.
URL:https://www.gopherbass.com/event/april-2020-club-meeting/
LOCATION:MN\, United States
CATEGORIES:Club Meeting
END:VEVENT
BEGIN:VEVENT
DTSTART;TZID=America/Chicago:20200318T183000
DTEND;TZID=America/Chicago:20200318T200000
DTSTAMP:20260423T102925
CREATED:20200226T032950Z
LAST-MODIFIED:20200226T032950Z
UID:555-1584556200-1584561600@www.gopherbass.com
SUMMARY:March 2020 Club Meeting
DESCRIPTION:March 2020 Gopher Club Meeting \nDate/Time: March 18\, 2020 from 6:30 PM to 8PM\nLocation: Bunny’s Bar and Grill\, 34 13th Ave NE\, Minneapolis\, MN 55413
URL:https://www.gopherbass.com/event/march-2020-club-meeting/
LOCATION:Bunny’s Bar and Grill\, 34 13th Ave NE\, Minneapolis\, MN\, 55413\, United States
CATEGORIES:Club Meeting
END:VEVENT
BEGIN:VEVENT
DTSTART;TZID=America/Chicago:20200115T183000
DTEND;TZID=America/Chicago:20200115T200000
DTSTAMP:20260423T102925
CREATED:20191106T155738Z
LAST-MODIFIED:20191205T014004Z
UID:548-1579113000-1579118400@www.gopherbass.com
SUMMARY:January 2020 Club Meeting
DESCRIPTION:January 2020 Gopher Club Meeting \nDate/Time: January 15\, 2020 from 6:30 PM to 8PM\nLocation: Bunny’s Bar and Grill\, 34 13th Ave NE\, Minneapolis\, MN 55413
URL:https://www.gopherbass.com/event/january-2020-club-meeting/
LOCATION:Bunny’s Bar and Grill\, 34 13th Ave NE\, Minneapolis\, MN\, 55413\, United States
CATEGORIES:Club Meeting
END:VEVENT
BEGIN:VEVENT
DTSTART;TZID=America/Chicago:20191204T183000
DTEND;TZID=America/Chicago:20191204T200000
DTSTAMP:20260423T102925
CREATED:20191106T155611Z
LAST-MODIFIED:20191106T155830Z
UID:546-1575484200-1575489600@www.gopherbass.com
SUMMARY:December 2019 Club Meeting
DESCRIPTION:December 2019 Gopher Club Meeting \nDate/Time: December 4\, 2019 from 6:30 PM to 8PM\nLocation: Bunny’s Bar and Grill\, 34 13th Ave NE\, Minneapolis\, MN 55413 \n 
URL:https://www.gopherbass.com/event/december-club-meeting/
LOCATION:Bunny’s Bar and Grill\, 34 13th Ave NE\, Minneapolis\, MN\, 55413\, United States
CATEGORIES:Club Meeting
END:VEVENT
BEGIN:VEVENT
DTSTART;TZID=America/Chicago:20191106T183000
DTEND;TZID=America/Chicago:20191106T200000
DTSTAMP:20260423T102925
CREATED:20191106T155242Z
LAST-MODIFIED:20191106T155242Z
UID:542-1573065000-1573070400@www.gopherbass.com
SUMMARY:November 2019 Club Meeting
DESCRIPTION:Gopher November Club Meeting:\nNovember 6\, 2019\, from 6:30 PM to 8 PM. \n  \nMeeting Location:\nBunny’s Bar & Grill NE\n34 13th Ave NE\, Minneapolis\, MN 55413\nPhone: (612) 545-5659 \n\nAgenda\n1. state meeting recap if someone went ??\n2. pay club dues\n3. Bass membership paid up ??\n4. recap Gopher tournaments\n5. recap the state tournament\n6. club budget for this year\n7. bylaw changes\n8. banquet/awards\n9. new members needed\n10. any changes to club tournament format for this year\n11. pick date/meeting to pick lakes and dates\n  \n 
URL:https://www.gopherbass.com/event/november-2019-club-meeting/
LOCATION:Bunny’s Bar and Grill\, 34 13th Ave NE\, Minneapolis\, MN\, 55413\, United States
CATEGORIES:Club Tournament
END:VEVENT
BEGIN:VEVENT
DTSTART;TZID=America/Chicago:20191006T080000
DTEND;TZID=America/Chicago:20191006T170000
DTSTAMP:20260423T102925
CREATED:20190425T021937Z
LAST-MODIFIED:20190425T021937Z
UID:498-1570348800-1570381200@www.gopherbass.com
SUMMARY:Fall Classic
DESCRIPTION:Fall Classic club tournament \nThis is meant to be a year-end fun event on a mystery lake.
URL:https://www.gopherbass.com/event/fall-classic/
CATEGORIES:Club Tournament
END:VEVENT
BEGIN:VEVENT
DTSTART;TZID=America/Chicago:20190922T070000
DTEND;TZID=America/Chicago:20190922T150000
DTSTAMP:20260423T102925
CREATED:20190424T075134Z
LAST-MODIFIED:20190424T075134Z
UID:494-1569135600-1569164400@www.gopherbass.com
SUMMARY:North/South Center Lake
DESCRIPTION:North/South Center Lake – September 22\, 2019 \nLindstrom\, MN (Chisago County) \nTake-off: 7:00 am\nWeigh-in: 3:00 pm\n12″ minimum\, 5 fish limit\nPlease arrive 20 minutes prior to take-off. \nLanding: TBD \nPairing: TBD
URL:https://www.gopherbass.com/event/north-south-center-lake/
END:VEVENT
BEGIN:VEVENT
DTSTART;TZID=America/Chicago:20190825T060000
DTEND;TZID=America/Chicago:20190825T140000
DTSTAMP:20260423T102925
CREATED:20190424T074851Z
LAST-MODIFIED:20190824T031030Z
UID:491-1566712800-1566741600@www.gopherbass.com
SUMMARY:Whitefish Chain of Lakes Day 2
DESCRIPTION:Whitefish chain of lakes Day 2 – August 25\, 2019 \nCrosslake\, MN \nTake off will be at 6:00 AM Both days.  We will weigh in at the dam on the east side of cross lake at 2:00 PM \nTake-off: 6 AM\nWeigh-in: 2 PM\n12″ minimum\, 5 fish limit\nPlease arrive 20 minutes prior to take-off. \nLanding: We will be using the boat ramp on the south west end of cross lake both days. (The one on West Shore Drive) \nPairing: \n\n\n\n\n\n\n\n\n\n\nBoat #\nBoater\nNon Boater\n\n\n1\nBen Yang\nRyan Ferber\n\n\n2\nBill O’Donnell \nJohn Fairbanks\n\n\n3\nMike Steinhoff\nSteve Brummer\n\n\n4\nDavid Little\nVang Xiong\n\n\n\n\n 
URL:https://www.gopherbass.com/event/whitefish-chain-of-lakes-day-2/
CATEGORIES:Club Tournament
END:VEVENT
BEGIN:VEVENT
DTSTART;TZID=America/Chicago:20190824T060000
DTEND;TZID=America/Chicago:20190824T140000
DTSTAMP:20260423T102925
CREATED:20190424T074727Z
LAST-MODIFIED:20190824T030948Z
UID:489-1566626400-1566655200@www.gopherbass.com
SUMMARY:Whitefish Chain of Lakes Day 1
DESCRIPTION:Whitefish chain of lakes Day 1 – August 24\, 2019 \nCrosslake\, MN \nTake off will be at 6:00 AM Both days.  We will weigh in at the dam on the east side of cross lake at 2:00 PM \nTake-off: 6 AM\nWeigh-in: 2 PM\n12″ minimum\, 5 fish limit\nPlease arrive 20 minutes prior to take-off. \nLanding: We will be using the boat ramp on the south west end of cross lake both days. (The one on West Shore Drive) \nPairing: \n\n\nSaturday\n\n\n\n\n\n\n\n\n\n\n\nBoat #\nBoater\nNon Boater\n\n\n1\nVang Xiong\nJohn Fairbanks\n\n\n2\nDavid Little\nSteve Brummer\n\n\n3\nMike Steinhoff\nBill O’Donnell \n\n\n4\nBen Yang\n\n\n\n\n\n\n\n 
URL:https://www.gopherbass.com/event/whitefish-chain-of-lakes-day-1/
CATEGORIES:Club Tournament
END:VEVENT
BEGIN:VEVENT
DTSTART;VALUE=DATE:20190808
DTEND;VALUE=DATE:20190810
DTSTAMP:20260423T102925
CREATED:20190424T074100Z
LAST-MODIFIED:20190424T074100Z
UID:487-1565222400-1565395199@www.gopherbass.com
SUMMARY:MN BASS Nation TOC
DESCRIPTION:2019 MN BASS Nation TOC on Island Lake Reservoir \nAugust 8-9\, 2019 \n 
URL:https://www.gopherbass.com/event/mn-bass-nation-toc/
CATEGORIES:MN BASS Nation Tournament
END:VEVENT
BEGIN:VEVENT
DTSTART;TZID=America/Chicago:20190714T060000
DTEND;TZID=America/Chicago:20190714T140000
DTSTAMP:20260423T102925
CREATED:20190424T073736Z
LAST-MODIFIED:20190424T073736Z
UID:484-1563084000-1563112800@www.gopherbass.com
SUMMARY:Lake Alexander
DESCRIPTION:Lake Alexander – July 14\, 2019 \nSouth of Motley\, MN (Morrison County) \nTake-off: TBD\nWeigh-in: TBD\n12″ minimum\, 5 fish limit\nPlease arrive 20 minutes prior to take-off. \nLanding: TBD \nPairing: TBD
URL:https://www.gopherbass.com/event/lake-alexander/
CATEGORIES:Club Tournament
END:VEVENT
BEGIN:VEVENT
DTSTART;TZID=America/Chicago:20190609T060000
DTEND;TZID=America/Chicago:20190609T140000
DTSTAMP:20260423T102925
CREATED:20190424T073509Z
LAST-MODIFIED:20190424T073810Z
UID:482-1560060000-1560088800@www.gopherbass.com
SUMMARY:Clearwater Lake
DESCRIPTION:Clearwater Lake – June 9\, 2019 \nSouth of Deerwood\, MN (Crow Wing county) \nTake-off: TBD\nWeigh-in: TBD\n12″ minimum\, 5 fish limit\nPlease arrive 20 minutes prior to take-off. \nLanding: TBD \nPairing: TBD
URL:https://www.gopherbass.com/event/clearwater-lake/
CATEGORIES:Club Tournament
END:VEVENT
END:VCALENDAR