BEGIN:VCALENDAR
VERSION:2.0
PRODID:-//Gopher Bassmaster - ECPv6.15.20//NONSGML v1.0//EN
CALSCALE:GREGORIAN
METHOD:PUBLISH
X-WR-CALNAME:Gopher Bassmaster
X-ORIGINAL-URL:https://www.gopherbass.com
X-WR-CALDESC:Events for Gopher Bassmaster
REFRESH-INTERVAL;VALUE=DURATION:PT1H
X-Robots-Tag:noindex
X-PUBLISHED-TTL:PT1H
BEGIN:VTIMEZONE
TZID:America/Chicago
BEGIN:DAYLIGHT
TZOFFSETFROM:-0600
TZOFFSETTO:-0500
TZNAME:CDT
DTSTART:20160313T080000
END:DAYLIGHT
BEGIN:STANDARD
TZOFFSETFROM:-0500
TZOFFSETTO:-0600
TZNAME:CST
DTSTART:20161106T070000
END:STANDARD
BEGIN:DAYLIGHT
TZOFFSETFROM:-0600
TZOFFSETTO:-0500
TZNAME:CDT
DTSTART:20170312T080000
END:DAYLIGHT
BEGIN:STANDARD
TZOFFSETFROM:-0500
TZOFFSETTO:-0600
TZNAME:CST
DTSTART:20171105T070000
END:STANDARD
BEGIN:DAYLIGHT
TZOFFSETFROM:-0600
TZOFFSETTO:-0500
TZNAME:CDT
DTSTART:20180311T080000
END:DAYLIGHT
BEGIN:STANDARD
TZOFFSETFROM:-0500
TZOFFSETTO:-0600
TZNAME:CST
DTSTART:20181104T070000
END:STANDARD
BEGIN:DAYLIGHT
TZOFFSETFROM:-0600
TZOFFSETTO:-0500
TZNAME:CDT
DTSTART:20190310T080000
END:DAYLIGHT
BEGIN:STANDARD
TZOFFSETFROM:-0500
TZOFFSETTO:-0600
TZNAME:CST
DTSTART:20191103T070000
END:STANDARD
BEGIN:DAYLIGHT
TZOFFSETFROM:-0600
TZOFFSETTO:-0500
TZNAME:CDT
DTSTART:20200308T080000
END:DAYLIGHT
BEGIN:STANDARD
TZOFFSETFROM:-0500
TZOFFSETTO:-0600
TZNAME:CST
DTSTART:20201101T070000
END:STANDARD
BEGIN:DAYLIGHT
TZOFFSETFROM:-0600
TZOFFSETTO:-0500
TZNAME:CDT
DTSTART:20210314T080000
END:DAYLIGHT
BEGIN:STANDARD
TZOFFSETFROM:-0500
TZOFFSETTO:-0600
TZNAME:CST
DTSTART:20211107T070000
END:STANDARD
BEGIN:DAYLIGHT
TZOFFSETFROM:-0600
TZOFFSETTO:-0500
TZNAME:CDT
DTSTART:20220313T080000
END:DAYLIGHT
BEGIN:STANDARD
TZOFFSETFROM:-0500
TZOFFSETTO:-0600
TZNAME:CST
DTSTART:20221106T070000
END:STANDARD
END:VTIMEZONE
BEGIN:VEVENT
DTSTART;TZID=America/Chicago:20210427T190000
DTEND;TZID=America/Chicago:20210427T200000
DTSTAMP:20260423T150902
CREATED:20210426T185005Z
LAST-MODIFIED:20210426T185005Z
UID:633-1619550000-1619553600@www.gopherbass.com
SUMMARY:April 2021 Club Meeting (Remote)
DESCRIPTION:Our last club meeting for this offseason is April 27\, 2021 at 7 PM. This meeting is going to be remote again and the zoom meeting information is below. \nTopic: Gopher Club Meeting\nTime: Apr 27\, 2021 07:00 PM Central Time (US and Canada) \nJoin Zoom Meeting\nhttps://wheniwork.zoom.us/j/92240784450?pwd=Sm1xQU1vallQU0lURnArWnFydWI2Zz09 \nMeeting ID: 922 4078 4450\nPasscode: 998997\nOne tap mobile\n+13017158592\,\,92240784450#\,\,\,\,*998997# US (Washington DC)\n+13126266799\,\,92240784450#\,\,\,\,*998997# US (Chicago) \nDial by your location\n+1 301 715 8592 US (Washington DC)\n+1 312 626 6799 US (Chicago)\n+1 646 876 9923 US (New York)\n+1 253 215 8782 US (Tacoma)\n+1 346 248 7799 US (Houston)\n+1 669 900 6833 US (San Jose)\nMeeting ID: 922 4078 4450\nPasscode: 998997\nFind your local number: https://wheniwork.zoom.us/u/aeXCT2yHA \n 
URL:https://www.gopherbass.com/event/april-2021-club-meeting-remote/
CATEGORIES:Club Meeting
END:VEVENT
BEGIN:VEVENT
DTSTART;TZID=America/Chicago:20210316T190000
DTEND;TZID=America/Chicago:20210316T200000
DTSTAMP:20260423T150902
CREATED:20210303T154814Z
LAST-MODIFIED:20210315T233441Z
UID:625-1615921200-1615924800@www.gopherbass.com
SUMMARY:March 2021 Club Meeting (Remote)
DESCRIPTION:Our March club meeting will be remote via zoom again. \nHere is the meeting info: \nTopic: Gopher Club Meeting\nTime: Mar 16\, 2021 07:00 PM Central Time (US and Canada) \nJoin Zoom Meeting\nhttps://wheniwork.zoom.us/j/93174126707?pwd=Tmd0SzJzbWtRUEx3c1h4cWtVNWpJUT09 \nMeeting ID: 931 7412 6707\nPasscode: 517216 \nOne tap mobile\n+13126266799\,\,93174126707#\,\,\,\,*517216# US (Chicago)\n+16468769923\,\,93174126707#\,\,\,\,*517216# US (New York) \nDial by your location\n+1 312 626 6799 US (Chicago)\n+1 646 876 9923 US (New York)\n+1 301 715 8592 US (Washington DC)\n+1 346 248 7799 US (Houston)\n+1 669 900 6833 US (San Jose)\n+1 253 215 8782 US (Tacoma)\nMeeting ID: 931 7412 6707\nPasscode: 517216\nFind your local number: https://wheniwork.zoom.us/u/acViU6kMXO \n 
URL:https://www.gopherbass.com/event/march-2021-club-meeting-remote/
CATEGORIES:Club Meeting
END:VEVENT
BEGIN:VEVENT
DTSTART;TZID=America/Chicago:20200422T190000
DTEND;TZID=America/Chicago:20200422T200000
DTSTAMP:20260423T150902
CREATED:20200226T033155Z
LAST-MODIFIED:20200420T193531Z
UID:557-1587582000-1587585600@www.gopherbass.com
SUMMARY:April 2020 Club Meeting (Remote)
DESCRIPTION:April 2020 Gopher Club Meeting \nDate/Time: April 22\, 2020 from 7 PM to 8PM \nThis meeting will be remote. Please check our email for the meeting link.
URL:https://www.gopherbass.com/event/april-2020-club-meeting/
LOCATION:MN\, United States
CATEGORIES:Club Meeting
END:VEVENT
BEGIN:VEVENT
DTSTART;TZID=America/Chicago:20200318T183000
DTEND;TZID=America/Chicago:20200318T200000
DTSTAMP:20260423T150902
CREATED:20200226T032950Z
LAST-MODIFIED:20200226T032950Z
UID:555-1584556200-1584561600@www.gopherbass.com
SUMMARY:March 2020 Club Meeting
DESCRIPTION:March 2020 Gopher Club Meeting \nDate/Time: March 18\, 2020 from 6:30 PM to 8PM\nLocation: Bunny’s Bar and Grill\, 34 13th Ave NE\, Minneapolis\, MN 55413
URL:https://www.gopherbass.com/event/march-2020-club-meeting/
LOCATION:Bunny’s Bar and Grill\, 34 13th Ave NE\, Minneapolis\, MN\, 55413\, United States
CATEGORIES:Club Meeting
END:VEVENT
BEGIN:VEVENT
DTSTART;TZID=America/Chicago:20200115T183000
DTEND;TZID=America/Chicago:20200115T200000
DTSTAMP:20260423T150902
CREATED:20191106T155738Z
LAST-MODIFIED:20191205T014004Z
UID:548-1579113000-1579118400@www.gopherbass.com
SUMMARY:January 2020 Club Meeting
DESCRIPTION:January 2020 Gopher Club Meeting \nDate/Time: January 15\, 2020 from 6:30 PM to 8PM\nLocation: Bunny’s Bar and Grill\, 34 13th Ave NE\, Minneapolis\, MN 55413
URL:https://www.gopherbass.com/event/january-2020-club-meeting/
LOCATION:Bunny’s Bar and Grill\, 34 13th Ave NE\, Minneapolis\, MN\, 55413\, United States
CATEGORIES:Club Meeting
END:VEVENT
BEGIN:VEVENT
DTSTART;TZID=America/Chicago:20191204T183000
DTEND;TZID=America/Chicago:20191204T200000
DTSTAMP:20260423T150902
CREATED:20191106T155611Z
LAST-MODIFIED:20191106T155830Z
UID:546-1575484200-1575489600@www.gopherbass.com
SUMMARY:December 2019 Club Meeting
DESCRIPTION:December 2019 Gopher Club Meeting \nDate/Time: December 4\, 2019 from 6:30 PM to 8PM\nLocation: Bunny’s Bar and Grill\, 34 13th Ave NE\, Minneapolis\, MN 55413 \n 
URL:https://www.gopherbass.com/event/december-club-meeting/
LOCATION:Bunny’s Bar and Grill\, 34 13th Ave NE\, Minneapolis\, MN\, 55413\, United States
CATEGORIES:Club Meeting
END:VEVENT
BEGIN:VEVENT
DTSTART;TZID=America/Chicago:20190126T111500
DTEND;TZID=America/Chicago:20190126T130000
DTSTAMP:20260423T150902
CREATED:20190108T060518Z
LAST-MODIFIED:20190108T060518Z
UID:448-1548501300-1548507600@www.gopherbass.com
SUMMARY:January 2019 Club Meeting
DESCRIPTION:Our next club meeting is Saturday\, January 26\, starting at 11:15 AM\, at Willy McCoys in Champlin. We will be picking dates and lakes for this upcoming season at this meeting\, so come prepared with lakes you want to fish. \n  \nAgenda:\n1. Winter Party\n2. Pay Dues\n3. Review State Meeting\n4. Pick Lakes and Dates \nMeeting Location: \nWilly McCoys\n12450 Business Park Blvd N\, Champlin\, MN 55316 \n  \n 
URL:https://www.gopherbass.com/event/january-2019-club-meeting/
LOCATION:Willy McCoys\, 1245 Business Park Blvd N\, Champlin\, MN\, 55316\, United States
CATEGORIES:Club Meeting
END:VEVENT
BEGIN:VEVENT
DTSTART;TZID=America/Chicago:20181204T190000
DTEND;TZID=America/Chicago:20181204T210000
DTSTAMP:20260423T150902
CREATED:20181128T060753Z
LAST-MODIFIED:20181128T060753Z
UID:445-1543950000-1543957200@www.gopherbass.com
SUMMARY:December 2018 Club Meeting
DESCRIPTION:The next Gopher club meeting is December 4th at Dunham’s Bar & Restaurant in West St. Paul. The meeting will start at 7 pm – 9 pm. \nThe address is:\nDunham’s Bar & Restaurant\n173 Lothenbach Ave\, West St Paul\, MN 55118
URL:https://www.gopherbass.com/event/december-2018-club-meeting/
LOCATION:Dunham’s Food & Drink\, 173 Lothenbach Ave\, West Saint Paul\, MN\, 55118\, United States
CATEGORIES:Club Meeting
END:VEVENT
BEGIN:VEVENT
DTSTART;TZID=America/Chicago:20181107T190000
DTEND;TZID=America/Chicago:20181107T210000
DTSTAMP:20260423T150902
CREATED:20180917T193343Z
LAST-MODIFIED:20181021T025004Z
UID:438-1541617200-1541624400@www.gopherbass.com
SUMMARY:November 2018 Club Meeting
DESCRIPTION:The first postseason club meeting is November 7\, 2018\, 7 pm to 9 pm\, at Willy McCoys – Champlin location\, 12450 Business Park Blvd N\, Champlin\, MN 55316. \nThanks to Rayan for getting this meeting set up at Willy’s. \nGet there early if you want to get food and drinks\nWe will not have a server in the room \nIF YOU HAVE NOT PAID YOUR $5.00 FOR THE JERSEYS\nYOU NEED TO PAY IT \nAgenda\n1. Review the October state meeting\n2. 2018 year in review – what worked / what did not\n3. By-law review – what changes are needed – Toc roster?\n4. End of year party – yes or no\, when and where ??\n5. 2019 game plan\n6. fundraising ???\n7. next meeting – date and location \n 
URL:https://www.gopherbass.com/event/november-2018-club-meeting/
CATEGORIES:Club Meeting
END:VEVENT
BEGIN:VEVENT
DTSTART;TZID=America/Chicago:20180320T183000
DTEND;TZID=America/Chicago:20180320T200000
DTSTAMP:20260423T150902
CREATED:20180222T073917Z
LAST-MODIFIED:20180222T073917Z
UID:308-1521570600-1521576000@www.gopherbass.com
SUMMARY:March 2018 Club Meeting
DESCRIPTION:The next club meeting is March 20\, 2018 at 6:30 pm @ the Hopkins VFW\, 100 Shady Oak Rd\, Hopkins\, MN 55343. \n 
URL:https://www.gopherbass.com/event/march-2018-club-meeting/
LOCATION:Hopkins VFW\, 100 Shady Oak Rd\, Hopkins\, MN\, 55343\, United States
CATEGORIES:Club Meeting
END:VEVENT
BEGIN:VEVENT
DTSTART;TZID=America/Chicago:20180206T183000
DTEND;TZID=America/Chicago:20180206T200000
DTSTAMP:20260423T150902
CREATED:20180118T061615Z
LAST-MODIFIED:20180118T061615Z
UID:280-1517941800-1517947200@www.gopherbass.com
SUMMARY:February 2018 Club Meeting
DESCRIPTION:The next club meeting is February 6th\, 2018 at 6:30pm @ Dunham’s\, 173 Lothenbach Ave\, West St Paul\, MN 55118. The meeting is on the second floor. \n  \nWe will vote on the purpose point system at this meeting.
URL:https://www.gopherbass.com/event/february-2018-club-meeting/
LOCATION:Dunham’s Food & Drink\, 173 Lothenbach Ave\, West Saint Paul\, MN\, 55118\, United States
CATEGORIES:Club Meeting
END:VEVENT
BEGIN:VEVENT
DTSTART;TZID=America/Chicago:20180109T183000
DTEND;TZID=America/Chicago:20180109T203000
DTSTAMP:20260423T150902
CREATED:20180102T054604Z
LAST-MODIFIED:20180118T060832Z
UID:270-1515522600-1515529800@www.gopherbass.com
SUMMARY:January 2018 Club Meeting
DESCRIPTION:Next club meeting is Tuesday\, January 9th @ 6:30\, at the Hopkins VFW\n\nAgenda:\n1. Vote for Vice President and Federation Rep.\n2. Vote for weight VS. points for club standings\n3. Vote for club tournament dates\n4. Vote for club tournament lakes\n5. Next meeting date TBD\n6. Open items
URL:https://www.gopherbass.com/event/january-2018-club-meeting/
LOCATION:Hopkins VFW\, 100 Shady Oak Rd\, Hopkins\, MN\, 55343\, United States
CATEGORIES:Club Meeting
END:VEVENT
BEGIN:VEVENT
DTSTART;TZID=America/Chicago:20171212T180000
DTEND;TZID=America/Chicago:20171212T210000
DTSTAMP:20260423T150902
CREATED:20171212T220507Z
LAST-MODIFIED:20180118T061100Z
UID:254-1513101600-1513112400@www.gopherbass.com
SUMMARY:December 2017 Club Meeting
DESCRIPTION:We will vote for officers and can start talking lakes. You should also think about paying dues if you plan to fish next year. \n  \nNew meeting location: \nDunham’s Food & Drink \n173 Lothenbach Ave\, West St Paul\, MN 55118
URL:https://www.gopherbass.com/event/december-2017-club-meeting/
LOCATION:Dunham’s Food & Drink\, 173 Lothenbach Ave\, West Saint Paul\, MN\, 55118\, United States
CATEGORIES:Club Meeting
END:VEVENT
BEGIN:VEVENT
DTSTART;TZID=America/Chicago:20170419T183000
DTEND;TZID=America/Chicago:20170419T203000
DTSTAMP:20260423T150902
CREATED:20170318T052543Z
LAST-MODIFIED:20170318T052543Z
UID:47-1492626600-1492633800@www.gopherbass.com
SUMMARY:April Club Meeting
DESCRIPTION:Officer reports\, Final Dues\, Pan-O-Prog Planning/Volunteers
URL:https://www.gopherbass.com/event/april-club-meeting/
LOCATION:Hopkins VFW\, 100 Shady Oak Rd\, Hopkins\, MN\, 55343\, United States
CATEGORIES:Club Meeting
END:VEVENT
END:VCALENDAR